BEGIN:VCALENDAR
VERSION:2.0
PRODID:-//Cahoots - ECPv6.3.1//NONSGML v1.0//EN
CALSCALE:GREGORIAN
METHOD:PUBLISH
X-WR-CALNAME:Cahoots
X-ORIGINAL-URL:https://cahoots.org.au
X-WR-CALDESC:Events for Cahoots
REFRESH-INTERVAL;VALUE=DURATION:PT1H
X-Robots-Tag:noindex
X-PUBLISHED-TTL:PT1H
BEGIN:VTIMEZONE
TZID:Australia/Perth
BEGIN:STANDARD
TZOFFSETFROM:+0800
TZOFFSETTO:+0800
TZNAME:AWST
DTSTART:20260101T000000
END:STANDARD
END:VTIMEZONE
BEGIN:VEVENT
DTSTART;TZID=Australia/Perth:20260502T153000
DTEND;TZID=Australia/Perth:20260503T120000
DTSTAMP:20260422T171923
CREATED:20260325T005119Z
LAST-MODIFIED:20260325T005119Z
UID:10002208-1777735800-1777809600@cahoots.org.au
SUMMARY:Discovery Camp
DESCRIPTION:
URL:https://cahoots.org.au/event/discovery-camp/
CATEGORIES:12yrs - 17yrs,5yrs - 11yrs
END:VEVENT
END:VCALENDAR